BEGIN:VCALENDAR
VERSION:2.0
PRODID:-//Plone.org//NONSGML plone.app.event//EN
X-WR-TIMEZONE:America/Sao_Paulo
BEGIN:VEVENT
SUMMARY:Pré-reserva em [ Auditório B106 do CAD3]
DTSTART;TZID=America/Sao_Paulo;VALUE=DATE-TIME:20240516T080000
DTEND;TZID=America/Sao_Paulo;VALUE=DATE-TIME:20240516T210000
DTSTAMP;VALUE=DATE-TIME:20260420T031926Z
UID:320c1a37cdbb444bba67c104cfbeb527@150.164.76.86:8080
CREATED;VALUE=DATE-TIME:20240418T140503Z
DESCRIPTION:<p>pré-reserva</p>
LAST-MODIFIED;VALUE=DATE-TIME:20240506T183408Z
URL:http://150.164.76.86:8080/cac/agenda/9526331093274902641
END:VEVENT
BEGIN:VTIMEZONE
TZID:America/Sao_Paulo
X-LIC-LOCATION:America/Sao_Paulo
BEGIN:STANDARD
DTSTART;VALUE=DATE-TIME:20240217T230000
TZNAME:BRT
TZOFFSETFROM:-0200
TZOFFSETTO:-0300
END:STANDARD
END:VTIMEZONE
END:VCALENDAR
