BEGIN:VCALENDAR
VERSION:2.0
PRODID:-//Plone.org//NONSGML plone.app.event//EN
X-WR-TIMEZONE:America/Sao_Paulo
BEGIN:VEVENT
SUMMARY:Ensaio Geral da Cerimônia de Colação de Grau da Faculdade de Le
 tras em [ Auditorio Nobre do CAD 1]
DTSTART;TZID=America/Sao_Paulo;VALUE=DATE-TIME:20200827T090000
DTEND;TZID=America/Sao_Paulo;VALUE=DATE-TIME:20200827T103000
DTSTAMP;VALUE=DATE-TIME:20260424T200326Z
UID:3b975e624d8942979627fe3ca476269b@150.164.76.86:8080
CREATED;VALUE=DATE-TIME:20200305T200340Z
DESCRIPTION:Será realizada a montagem do praticável para a cerimônia. A
 lém disso\, será utilizada toda a multimídia do local.
LAST-MODIFIED;VALUE=DATE-TIME:20200311T135139Z
URL:http://150.164.76.86:8080/cac/agenda/9507227612251070317
END:VEVENT
BEGIN:VTIMEZONE
TZID:America/Sao_Paulo
X-LIC-LOCATION:America/Sao_Paulo
BEGIN:STANDARD
DTSTART;VALUE=DATE-TIME:20200215T230000
TZNAME:BRT
TZOFFSETFROM:-0200
TZOFFSETTO:-0300
END:STANDARD
END:VTIMEZONE
END:VCALENDAR
