BEGIN:VCALENDAR
VERSION:2.0
PRODID:-//Plone.org//NONSGML plone.app.event//EN
X-WR-TIMEZONE:America/Sao_Paulo
BEGIN:VEVENT
SUMMARY:15 Anos do Curso de Gestão de Serviços de Saúde em [ Outros esp
 acos]
DTSTART;TZID=America/Sao_Paulo;VALUE=DATE-TIME:20241203T173000
DTEND;TZID=America/Sao_Paulo;VALUE=DATE-TIME:20241203T213000
DTSTAMP;VALUE=DATE-TIME:20260419T163319Z
UID:d1c16be643f94278b919b872e4feba08@150.164.76.86:8080
CREATED;VALUE=DATE-TIME:20241128T121634Z
DESCRIPTION:<p><span style="text-align: left\; text-decoration-thickness: 
 initial\; text-decoration-style: initial\; text-decoration-color: initial\
 ; float: none\; "><span style="text-align: left\; text-decoration-thicknes
 s: initial\; text-decoration-style: initial\; text-decoration-color: initi
 al\; float: none\; ">15 Anos do Curso de Gestão de Serviços de Saúde</s
 pan> - Auditório da Faculdade de Medicina da UFMG</span></p>
LAST-MODIFIED;VALUE=DATE-TIME:20241128T121702Z
URL:http://150.164.76.86:8080/cac/agenda/949443321751945734
END:VEVENT
BEGIN:VTIMEZONE
TZID:America/Sao_Paulo
X-LIC-LOCATION:America/Sao_Paulo
BEGIN:DAYLIGHT
DTSTART;VALUE=DATE-TIME:20241020T010000
TZNAME:BRST
TZOFFSETFROM:-0300
TZOFFSETTO:-0200
END:DAYLIGHT
END:VTIMEZONE
END:VCALENDAR
