BEGIN:VCALENDAR
VERSION:2.0
PRODID:-//Plone.org//NONSGML plone.app.event//EN
X-WR-TIMEZONE:America/Sao_Paulo
BEGIN:VEVENT
SUMMARY:Festival Leste Asiático em [ Arena da praça de serviços Entorno
  da Praca de Servicos]
DTSTART;TZID=America/Sao_Paulo;VALUE=DATE-TIME:20231009T090000
DTEND;TZID=America/Sao_Paulo;VALUE=DATE-TIME:20231009T210000
DTSTAMP;VALUE=DATE-TIME:20260421T020137Z
UID:d5e84921af7744c5a23570c585be79c5@150.164.76.86:8080
CREATED;VALUE=DATE-TIME:20230714T145207Z
DESCRIPTION:<p>O Festival Leste Asiático é um projeto da Chamada PRAE de
  fomento ao protagonismo estudantil. Contará com rodas de conversa\, ativ
 idades culturais e culinária do Leste Asiático. Será necessário intern
 et wi-fi disponibilizada\, sobretudo aos comerciantes de alimentos\; ponto
 s de energia\, iluminação.</p>
LAST-MODIFIED;VALUE=DATE-TIME:20231005T194505Z
URL:http://150.164.76.86:8080/cac/agenda/9494124113800032718
END:VEVENT
BEGIN:VTIMEZONE
TZID:America/Sao_Paulo
X-LIC-LOCATION:America/Sao_Paulo
BEGIN:STANDARD
DTSTART;VALUE=DATE-TIME:20230225T230000
TZNAME:BRT
TZOFFSETFROM:-0200
TZOFFSETTO:-0300
END:STANDARD
END:VTIMEZONE
END:VCALENDAR
