BEGIN:VCALENDAR
VERSION:2.0
PRODID:-//Plone.org//NONSGML plone.app.event//EN
X-WR-TIMEZONE:America/Sao_Paulo
BEGIN:VEVENT
SUMMARY:ASSEMBLEIA DO SINDIFES em [ Auditorio A102 do Cad 2]
DTSTART;TZID=America/Sao_Paulo;VALUE=DATE-TIME:20240510T080000
DTEND;TZID=America/Sao_Paulo;VALUE=DATE-TIME:20240510T170000
DTSTAMP;VALUE=DATE-TIME:20260420T031246Z
UID:d1095617a5ae4322a9b8902d7d95de53@150.164.76.86:8080
CREATED;VALUE=DATE-TIME:20240503T140637Z
DESCRIPTION:<p>assembleia do sindifes</p>
LAST-MODIFIED;VALUE=DATE-TIME:20240506T141721Z
URL:http://150.164.76.86:8080/cac/agenda/9470076709470600514
END:VEVENT
BEGIN:VTIMEZONE
TZID:America/Sao_Paulo
X-LIC-LOCATION:America/Sao_Paulo
BEGIN:STANDARD
DTSTART;VALUE=DATE-TIME:20240217T230000
TZNAME:BRT
TZOFFSETFROM:-0200
TZOFFSETTO:-0300
END:STANDARD
END:VTIMEZONE
END:VCALENDAR
