BEGIN:VCALENDAR
VERSION:2.0
PRODID:-//Plone.org//NONSGML plone.app.event//EN
X-WR-TIMEZONE:America/Sao_Paulo
BEGIN:VEVENT
SUMMARY:Conferência Tópicos em Filosofia - COLTEC em [ Auditorio A102 do
  Cad 2]
DTSTART;TZID=America/Sao_Paulo;VALUE=DATE-TIME:20241209T120000
DTEND;TZID=America/Sao_Paulo;VALUE=DATE-TIME:20241209T150000
DTSTAMP;VALUE=DATE-TIME:20260419T163616Z
UID:6617c04dd113410fbd14d983025f4137@150.164.76.86:8080
CREATED;VALUE=DATE-TIME:20241108T151720Z
DESCRIPTION:<p>Data show e caixa de som. Tópicos em Filosofia. Conferênc
 ia a ser conferida para todas as turmas de segundo ano pelo professor Ant
 ônio José Lopes Alves.</p>
LAST-MODIFIED;VALUE=DATE-TIME:20241122T142929Z
URL:http://150.164.76.86:8080/cac/agenda/9442341395127331765
END:VEVENT
BEGIN:VTIMEZONE
TZID:America/Sao_Paulo
X-LIC-LOCATION:America/Sao_Paulo
BEGIN:DAYLIGHT
DTSTART;VALUE=DATE-TIME:20241020T010000
TZNAME:BRST
TZOFFSETFROM:-0300
TZOFFSETTO:-0200
END:DAYLIGHT
END:VTIMEZONE
END:VCALENDAR
