BEGIN:VCALENDAR
VERSION:2.0
PRODID:-//Plone.org//NONSGML plone.app.event//EN
X-WR-TIMEZONE:America/Sao_Paulo
BEGIN:VEVENT
SUMMARY:Reunião Conselho Universitário em [ Outros espacos]
DTSTART;TZID=America/Sao_Paulo;VALUE=DATE-TIME:20241217T140000
DTEND;TZID=America/Sao_Paulo;VALUE=DATE-TIME:20241217T180000
DTSTAMP;VALUE=DATE-TIME:20260419T163730Z
UID:96024f66af48431eb7e817cb8be36150@150.164.76.86:8080
CREATED;VALUE=DATE-TIME:20241212T120453Z
DESCRIPTION:<p>Reunião do Conselho Universitário</p>
LAST-MODIFIED;VALUE=DATE-TIME:20241212T120615Z
URL:http://150.164.76.86:8080/cac/agenda/9441618464928590505
END:VEVENT
BEGIN:VTIMEZONE
TZID:America/Sao_Paulo
X-LIC-LOCATION:America/Sao_Paulo
BEGIN:DAYLIGHT
DTSTART;VALUE=DATE-TIME:20241020T010000
TZNAME:BRST
TZOFFSETFROM:-0300
TZOFFSETTO:-0200
END:DAYLIGHT
END:VTIMEZONE
END:VCALENDAR
