BEGIN:VCALENDAR
VERSION:2.0
PRODID:-//Plone.org//NONSGML plone.app.event//EN
X-WR-TIMEZONE:America/Sao_Paulo
BEGIN:VEVENT
SUMMARY:Banca de Heteroidentificação em [ Outros espacos Auditório B101
 /102 do CAD 3 Auditório B106 do CAD3 Auditório B107 do CAD3]
DTSTART;TZID=America/Sao_Paulo;VALUE=DATE-TIME:20240709T070000
DTEND;TZID=America/Sao_Paulo;VALUE=DATE-TIME:20240712T180000
DTSTAMP;VALUE=DATE-TIME:20260419T234814Z
UID:3bb6c1a96baf4e3c96338747a33aec9c@150.164.76.86:8080
CREATED;VALUE=DATE-TIME:20240608T131753Z
DESCRIPTION:<p>Sisu UFMG 2024 1ª edição 2ª entrada </p>
LAST-MODIFIED;VALUE=DATE-TIME:20240608T131922Z
URL:http://150.164.76.86:8080/cac/agenda/9432523182561727730
END:VEVENT
BEGIN:VTIMEZONE
TZID:America/Sao_Paulo
X-LIC-LOCATION:America/Sao_Paulo
BEGIN:STANDARD
DTSTART;VALUE=DATE-TIME:20240217T230000
TZNAME:BRT
TZOFFSETFROM:-0200
TZOFFSETTO:-0300
END:STANDARD
END:VTIMEZONE
END:VCALENDAR
