BEGIN:VCALENDAR
VERSION:2.0
PRODID:-//Plone.org//NONSGML plone.app.event//EN
X-WR-TIMEZONE:America/Sao_Paulo
BEGIN:VEVENT
SUMMARY:XL Enprop - Encontro Nacional de Pró-Reitores de Pesquisa e Pós-
 Graduação em [ Auditorio A102 do Cad 2 Auditorio A104 do Cad 2 Auditorio
  da Reitoria]
DTSTART;TZID=America/Sao_Paulo;VALUE=DATE-TIME:20241112T080000
DTEND;TZID=America/Sao_Paulo;VALUE=DATE-TIME:20241114T190000
DTSTAMP;VALUE=DATE-TIME:20260419T175352Z
UID:d4c6843e1f1e42e3b2f119d7153e8be8@150.164.76.86:8080
CREATED;VALUE=DATE-TIME:20231110T132129Z
DESCRIPTION:<p>O encontro é realizado anualmente\, com a participação d
 os Pró-reitores das Universidades brasileiras federais\, estaduais\, comu
 nitárias e privadas\, de modo a se ter um movimento forte em prol da pesq
 uisa e pós-graduação nas Instituições de Ensino Superior.</p>
LAST-MODIFIED;VALUE=DATE-TIME:20240419T193338Z
URL:http://150.164.76.86:8080/cac/agenda/9432194761516988429
END:VEVENT
BEGIN:VTIMEZONE
TZID:America/Sao_Paulo
X-LIC-LOCATION:America/Sao_Paulo
BEGIN:DAYLIGHT
DTSTART;VALUE=DATE-TIME:20241020T010000
TZNAME:BRST
TZOFFSETFROM:-0300
TZOFFSETTO:-0200
END:DAYLIGHT
END:VTIMEZONE
END:VCALENDAR
