BEGIN:VCALENDAR
VERSION:2.0
PRODID:-//Plone.org//NONSGML plone.app.event//EN
X-WR-TIMEZONE:America/Sao_Paulo
BEGIN:VEVENT
SUMMARY:Bloqueio CAC em [ Auditorio da Reitoria]
DTSTART;TZID=America/Sao_Paulo;VALUE=DATE-TIME:20240923T070000
DTEND;TZID=America/Sao_Paulo;VALUE=DATE-TIME:20240923T220000
DTSTAMP;VALUE=DATE-TIME:20260419T205452Z
UID:507a213a315b481c87a92a9b2d4ad909@150.164.76.86:8080
CREATED;VALUE=DATE-TIME:20240612T171932Z
DESCRIPTION:<p>bloqueio cac para gerenciamento</p>
LAST-MODIFIED;VALUE=DATE-TIME:20240821T133652Z
URL:http://150.164.76.86:8080/cac/agenda/9429142157073553544
END:VEVENT
BEGIN:VTIMEZONE
TZID:America/Sao_Paulo
X-LIC-LOCATION:America/Sao_Paulo
BEGIN:STANDARD
DTSTART;VALUE=DATE-TIME:20240217T230000
TZNAME:BRT
TZOFFSETFROM:-0200
TZOFFSETTO:-0300
END:STANDARD
END:VTIMEZONE
END:VCALENDAR
