BEGIN:VCALENDAR
VERSION:2.0
PRODID:-//Plone.org//NONSGML plone.app.event//EN
X-WR-TIMEZONE:America/Sao_Paulo
BEGIN:VEVENT
SUMMARY:Noite Cultural Indígena em [ Arena da praça de serviços]
DTSTART;TZID=America/Sao_Paulo;VALUE=DATE-TIME:20230427T183000
DTEND;TZID=America/Sao_Paulo;VALUE=DATE-TIME:20230428T210000
DTSTAMP;VALUE=DATE-TIME:20260421T145854Z
UID:143b6322271f4203af15bf2e6b8fd401@150.164.76.86:8080
CREATED;VALUE=DATE-TIME:20230406T112039Z
DESCRIPTION:Na semana dos dias 24 a 28/04/2023 haverá a Noite Cultural In
 dígena com atividades desenvolvidas pelo coletivo de estudantes indígena
 s da UFMG na arena da praça de serviços.\n\nPretende-se fazer a projeç
 ão na arena da praça de serviços das 18:30 às 21h\n\nPara tal atividad
 e solicitamos os suportes e empréstimos dos materiais abaixo:\n\n01 tela 
 de projeção\n01 projetor de 6 mil lumens\n01 caixa de som amplificada\n0
 1 técnico para operar/montar/desmontar o equipamento
LAST-MODIFIED;VALUE=DATE-TIME:20230406T131405Z
URL:http://150.164.76.86:8080/cac/agenda/9425577624219406613
END:VEVENT
BEGIN:VTIMEZONE
TZID:America/Sao_Paulo
X-LIC-LOCATION:America/Sao_Paulo
BEGIN:STANDARD
DTSTART;VALUE=DATE-TIME:20230225T230000
TZNAME:BRT
TZOFFSETFROM:-0200
TZOFFSETTO:-0300
END:STANDARD
END:VTIMEZONE
END:VCALENDAR
