BEGIN:VCALENDAR
VERSION:2.0
PRODID:-//Plone.org//NONSGML plone.app.event//EN
X-WR-TIMEZONE:America/Sao_Paulo
BEGIN:VEVENT
SUMMARY:Reserva Gabinete - GLOBAL YOUTH LEADERSHIP em [ Auditorio Nobre do
  CAD 1 Outros espacos]
DTSTART;TZID=America/Sao_Paulo;VALUE=DATE-TIME:20250324T080000
DTEND;TZID=America/Sao_Paulo;VALUE=DATE-TIME:20250408T210000
DTSTAMP;VALUE=DATE-TIME:20260419T090935Z
UID:43232b209b584acfb124c885740a7e3e@150.164.76.86:8080
CREATED;VALUE=DATE-TIME:20240704T133808Z
DESCRIPTION:<p>bloqueio para evento internacional do Gabinete\, coordenado
  pelo Prof. Ricardo\, diretor do ICB. </p>\n<p> </p>
LAST-MODIFIED;VALUE=DATE-TIME:20250221T180152Z
URL:http://150.164.76.86:8080/cac/agenda/9369706998737603135
END:VEVENT
BEGIN:VTIMEZONE
TZID:America/Sao_Paulo
X-LIC-LOCATION:America/Sao_Paulo
BEGIN:STANDARD
DTSTART;VALUE=DATE-TIME:20250215T230000
TZNAME:BRT
TZOFFSETFROM:-0200
TZOFFSETTO:-0300
END:STANDARD
END:VTIMEZONE
END:VCALENDAR
