BEGIN:VCALENDAR
VERSION:2.0
PRODID:-//Plone.org//NONSGML plone.app.event//EN
X-WR-TIMEZONE:America/Sao_Paulo
BEGIN:VEVENT
SUMMARY:Reunião de Equipe em [ Outros espacos]
DTSTART;TZID=America/Sao_Paulo;VALUE=DATE-TIME:20230519T093000
DTEND;TZID=America/Sao_Paulo;VALUE=DATE-TIME:20230519T123000
DTSTAMP;VALUE=DATE-TIME:20260421T133930Z
UID:784e08dc02e64fe9b42b7224eabb71cf@150.164.76.86:8080
CREATED;VALUE=DATE-TIME:20230516T123115Z
DESCRIPTION:<p>Reunião de equipe</p>
LAST-MODIFIED;VALUE=DATE-TIME:20230516T123151Z
URL:http://150.164.76.86:8080/cac/agenda/9367612691398043844
END:VEVENT
BEGIN:VTIMEZONE
TZID:America/Sao_Paulo
X-LIC-LOCATION:America/Sao_Paulo
BEGIN:STANDARD
DTSTART;VALUE=DATE-TIME:20230225T230000
TZNAME:BRT
TZOFFSETFROM:-0200
TZOFFSETTO:-0300
END:STANDARD
END:VTIMEZONE
END:VCALENDAR
