BEGIN:VCALENDAR
VERSION:2.0
PRODID:-//Plone.org//NONSGML plone.app.event//EN
X-WR-TIMEZONE:America/Sao_Paulo
BEGIN:VEVENT
SUMMARY:Projeto Recitais em [ Outros espacos]
DTSTART;TZID=America/Sao_Paulo;VALUE=DATE-TIME:20240926T190000
DTEND;TZID=America/Sao_Paulo;VALUE=DATE-TIME:20240926T210000
DTSTAMP;VALUE=DATE-TIME:20260419T205224Z
UID:a5035944efdb4226836ca55b95bada69@150.164.76.86:8080
CREATED;VALUE=DATE-TIME:20240729T162706Z
DESCRIPTION:Apresentação Musical: Olivera e  Banda\nDta: 26/09/2024 - 19
  horas.\n\nNecessidades:\n\nPessoal:\n\na) 01 técnico de som \n\nEquipame
 ntos:\n\nb) 02 caixas de som subwooffer.\n\nObservação: aprovado o empr
 éstimo\, agendarei o veículo com carregadores para buscar no dia 26/09\,
  às 09 horas . E farei a devolução no dia 27/09/2024\, às 09 horas.
LAST-MODIFIED;VALUE=DATE-TIME:20240806T140146Z
URL:http://150.164.76.86:8080/cac/agenda/9365723303674522521
END:VEVENT
BEGIN:VTIMEZONE
TZID:America/Sao_Paulo
X-LIC-LOCATION:America/Sao_Paulo
BEGIN:STANDARD
DTSTART;VALUE=DATE-TIME:20240217T230000
TZNAME:BRT
TZOFFSETFROM:-0200
TZOFFSETTO:-0300
END:STANDARD
END:VTIMEZONE
END:VCALENDAR
