BEGIN:VCALENDAR
VERSION:2.0
PRODID:-//Plone.org//NONSGML plone.app.event//EN
X-WR-TIMEZONE:America/Sao_Paulo
BEGIN:VEVENT
SUMMARY:Reunião com chefes de Departamento\, coordenadores de Colegiado e
  presidentes de NDEs em [ Auditorio da Reitoria]
DTSTART;TZID=America/Sao_Paulo;VALUE=DATE-TIME:20221212T153000
DTEND;TZID=America/Sao_Paulo;VALUE=DATE-TIME:20221212T170000
DTSTAMP;VALUE=DATE-TIME:20260421T205832Z
UID:7b050c46a03847adb4cf745d376baba7@150.164.76.86:8080
CREATED;VALUE=DATE-TIME:20221117T181616Z
DESCRIPTION:<p>Microfone de mesa\, 02 suportes para microfones avulsos\, t
 ransmissão online via youtube.</p>
LAST-MODIFIED;VALUE=DATE-TIME:20221122T145530Z
URL:http://150.164.76.86:8080/cac/agenda/9331592366381839959
END:VEVENT
BEGIN:VTIMEZONE
TZID:America/Sao_Paulo
X-LIC-LOCATION:America/Sao_Paulo
BEGIN:DAYLIGHT
DTSTART;VALUE=DATE-TIME:20221016T010000
TZNAME:BRST
TZOFFSETFROM:-0300
TZOFFSETTO:-0200
END:DAYLIGHT
END:VTIMEZONE
END:VCALENDAR
