BEGIN:VCALENDAR
VERSION:2.0
PRODID:-//Plone.org//NONSGML plone.app.event//EN
X-WR-TIMEZONE:America/Sao_Paulo
BEGIN:VEVENT
SUMMARY:Feriado em [ Saguao da Reitoria Auditorio da Reitoria Gramado da R
 eitoria Entorno da Praca de Servicos Auditorio Nobre do CAD 1 Auditorio 1A
  do CAD 1 Auditorio 2A do CAD 1 Auditorio A102 do Cad 2 Auditorio A104 do 
 Cad 2 Arena da praça de serviços Auditório B302 do CAD 3 Auditório B10
 1/102 do CAD 3 Auditório B301 do CAD 3 Auditório B106 do CAD3 Auditório
  B107 do CAD3]
DTSTART;TZID=America/Sao_Paulo;VALUE=DATE-TIME:20220815T010000
DTEND;TZID=America/Sao_Paulo;VALUE=DATE-TIME:20220815T230000
DTSTAMP;VALUE=DATE-TIME:20260422T012636Z
UID:592d679ad7754ec39ad090f77f473aad@150.164.76.86:8080
CREATED;VALUE=DATE-TIME:20220609T125619Z
DESCRIPTION:<p>.</p>
LAST-MODIFIED;VALUE=DATE-TIME:20230111T201057Z
URL:http://150.164.76.86:8080/cac/agenda/9325818840658535733
END:VEVENT
BEGIN:VTIMEZONE
TZID:America/Sao_Paulo
X-LIC-LOCATION:America/Sao_Paulo
BEGIN:STANDARD
DTSTART;VALUE=DATE-TIME:20220219T230000
TZNAME:BRT
TZOFFSETFROM:-0200
TZOFFSETTO:-0300
END:STANDARD
END:VTIMEZONE
END:VCALENDAR
