BEGIN:VCALENDAR
VERSION:2.0
PRODID:-//Plone.org//NONSGML plone.app.event//EN
X-WR-TIMEZONE:America/Sao_Paulo
BEGIN:VEVENT
SUMMARY:Palestra sobre bons hábitos no ambiente de trabalho em [ Auditori
 o da Reitoria]
DTSTART;TZID=America/Sao_Paulo;VALUE=DATE-TIME:20230324T140000
DTEND;TZID=America/Sao_Paulo;VALUE=DATE-TIME:20230324T150000
DTSTAMP;VALUE=DATE-TIME:20260421T164119Z
UID:e8a47d54f9de45ff95dded9c95f1cc37@150.164.76.86:8080
CREATED;VALUE=DATE-TIME:20230315T133349Z
DESCRIPTION:<p>Reunião</p>
LAST-MODIFIED;VALUE=DATE-TIME:20230315T133409Z
URL:http://150.164.76.86:8080/cac/agenda/930264735115493882
END:VEVENT
BEGIN:VTIMEZONE
TZID:America/Sao_Paulo
X-LIC-LOCATION:America/Sao_Paulo
BEGIN:STANDARD
DTSTART;VALUE=DATE-TIME:20230225T230000
TZNAME:BRT
TZOFFSETFROM:-0200
TZOFFSETTO:-0300
END:STANDARD
END:VTIMEZONE
END:VCALENDAR
