BEGIN:VCALENDAR
VERSION:2.0
PRODID:-//Plone.org//NONSGML plone.app.event//EN
X-WR-TIMEZONE:America/Sao_Paulo
BEGIN:VEVENT
SUMMARY:Reunião com Diretores de Unidades e Coordenadores de Cursos de Gr
 aduação em [ Auditorio da Reitoria]
DTSTART;TZID=America/Sao_Paulo;VALUE=DATE-TIME:20250130T100000
DTEND;TZID=America/Sao_Paulo;VALUE=DATE-TIME:20250130T120000
DTSTAMP;VALUE=DATE-TIME:20260419T150106Z
UID:ab971c9f18fa48618e2b3697d5ba3532@150.164.76.86:8080
CREATED;VALUE=DATE-TIME:20250116T180858Z
DESCRIPTION:<p>Microfone de mesa\, projeção.</p>
LAST-MODIFIED;VALUE=DATE-TIME:20250117T145515Z
URL:http://150.164.76.86:8080/cac/agenda/9299711468092149022
END:VEVENT
BEGIN:VTIMEZONE
TZID:America/Sao_Paulo
X-LIC-LOCATION:America/Sao_Paulo
BEGIN:DAYLIGHT
DTSTART;VALUE=DATE-TIME:20241020T010000
TZNAME:BRST
TZOFFSETFROM:-0300
TZOFFSETTO:-0200
END:DAYLIGHT
END:VTIMEZONE
END:VCALENDAR
