BEGIN:VCALENDAR
VERSION:2.0
PRODID:-//Plone.org//NONSGML plone.app.event//EN
X-WR-TIMEZONE:America/Sao_Paulo
BEGIN:VEVENT
SUMMARY:Palestra - Mestrado e doutorado: o que esses cursos vão exigir de
  mim? Ciclo de Palestras EPP em [ Auditorio da Reitoria]
DTSTART;TZID=America/Sao_Paulo;VALUE=DATE-TIME:20231113T140000
DTEND;TZID=America/Sao_Paulo;VALUE=DATE-TIME:20231113T160000
DTSTAMP;VALUE=DATE-TIME:20260420T131347Z
UID:264f7d272c9742ae9db0fa1ef92554ef@150.164.76.86:8080
CREATED;VALUE=DATE-TIME:20230925T221410Z
DESCRIPTION:<p>Trata-se de palestra que faz parte de um ciclo que está se
 ndo organizada pela DDP/PRORH atendendo ao Plano de Desenvolvimento de Pes
 soas da UFMG 2023\, a ação é voltada a servidores TAE da universidade. 
 A ação contará com a participação presencial de inscritos (limitado 
 à capacidade do espaço) e transmissão online pública e aberta a todos 
 os interessados no YouTube da CAC. Na descrição do vídeo deverá estar 
 disponível o link de lista de presença https://forms.gle/AFYG1wLKoEpeHTx
 MA - Título para a transmissão: Palestra - Mestrado e doutorado: o que e
 sses cursos vão exigir de mim? Ciclo de Palestras EPP. - Quantidade de pe
 ssoas na transmissão: Serão dois palestrantes que irão interagir\; - El
 es precisarão de: notebook e projeção de apresentação de slides\; - N
 ão será necessária mesa de credenciamento\, será somente passada lista
  de presença por servidores da DDP.</p>
LAST-MODIFIED;VALUE=DATE-TIME:20230926T151441Z
URL:http://150.164.76.86:8080/cac/agenda/9292094784478015151
END:VEVENT
BEGIN:VTIMEZONE
TZID:America/Sao_Paulo
X-LIC-LOCATION:America/Sao_Paulo
BEGIN:DAYLIGHT
DTSTART;VALUE=DATE-TIME:20231015T010000
TZNAME:BRST
TZOFFSETFROM:-0300
TZOFFSETTO:-0200
END:DAYLIGHT
END:VTIMEZONE
END:VCALENDAR
