BEGIN:VCALENDAR
VERSION:2.0
PRODID:-//Plone.org//NONSGML plone.app.event//EN
X-WR-TIMEZONE:America/Sao_Paulo
BEGIN:VEVENT
SUMMARY:Aula inaugural Minicurso básico e introdutório de língua\, cult
 ura e civilização yorubá-africanas em [ Auditório B106 do CAD3]
DTSTART;TZID=America/Sao_Paulo;VALUE=DATE-TIME:20241125T190000
DTEND;TZID=America/Sao_Paulo;VALUE=DATE-TIME:20241125T223000
DTSTAMP;VALUE=DATE-TIME:20260419T175601Z
UID:50c02acb7d894b99a952701b7ecf5064@150.164.76.86:8080
CREATED;VALUE=DATE-TIME:20241014T212219Z
DESCRIPTION:<p>Aula inaugural sobre o tema geral: “A África: seus povos
 \, seu passado e seu presente” como parte do "Língua\, cultura e civili
 zação yorùbá: Minicurso básico e introdutório de língua\, cultura e
  civilização yorubá-africanas\, ministrado pelo professor nigeriano Fé
 lix Ayoh’Omidire (Universidade de Ilé Ifé\, Ojùgbọ̀nà Awo no Temp
 lo Ifá Ogberosun em São Cristóvão\, Salvador\, Bahia). Atividade conju
 nta do CEA - UFMG e a Formação Transversal em Saberes Tradicionais para 
 o Novembro Negro. Previsão de público: 200 pessoas Necessitamos de micro
 fone\, projetor\, som \, mesa para apresentação e púlpito Responsáveis
 : Profa. Dra. Ana Paula Meneses Alves (Escola de Ciência da Informação)
 \, Prof. Dr. Wagner Leite Viana (Belas Artes)\, Profa. Dra. Janaina Barros
  (Belas Artes) Para esta atividade precisaremos de suporte técnico\, se p
 ossível.</p>
LAST-MODIFIED;VALUE=DATE-TIME:20241015T182901Z
URL:http://150.164.76.86:8080/cac/agenda/9272070347543842053
END:VEVENT
BEGIN:VTIMEZONE
TZID:America/Sao_Paulo
X-LIC-LOCATION:America/Sao_Paulo
BEGIN:DAYLIGHT
DTSTART;VALUE=DATE-TIME:20241020T010000
TZNAME:BRST
TZOFFSETFROM:-0300
TZOFFSETTO:-0200
END:DAYLIGHT
END:VTIMEZONE
END:VCALENDAR
