BEGIN:VCALENDAR
VERSION:2.0
PRODID:-//Plone.org//NONSGML plone.app.event//EN
X-WR-TIMEZONE:America/Sao_Paulo
BEGIN:VEVENT
SUMMARY:Colação de Grau FAFICH em [ Auditorio A102 do Cad 2]
DTSTART;TZID=America/Sao_Paulo;VALUE=DATE-TIME:20250227T150000
DTEND;TZID=America/Sao_Paulo;VALUE=DATE-TIME:20250227T200000
DTSTAMP;VALUE=DATE-TIME:20260419T134016Z
UID:8fade72a08084f2c8b615b44ddf703a5@150.164.76.86:8080
CREATED;VALUE=DATE-TIME:20240619T163118Z
DESCRIPTION:<p>Colação de grau oficial FAFICH</p>
LAST-MODIFIED;VALUE=DATE-TIME:20250130T151550Z
URL:http://150.164.76.86:8080/cac/agenda/9263725138945943532
END:VEVENT
BEGIN:VTIMEZONE
TZID:America/Sao_Paulo
X-LIC-LOCATION:America/Sao_Paulo
BEGIN:STANDARD
DTSTART;VALUE=DATE-TIME:20250215T230000
TZNAME:BRT
TZOFFSETFROM:-0200
TZOFFSETTO:-0300
END:STANDARD
END:VTIMEZONE
END:VCALENDAR
