BEGIN:VCALENDAR
VERSION:2.0
PRODID:-//Plone.org//NONSGML plone.app.event//EN
X-WR-TIMEZONE:America/Sao_Paulo
BEGIN:VEVENT
SUMMARY:A Ditadura militar brasileira: história\, memória e resistência
  em [ Outros espacos]
DTSTART;TZID=America/Sao_Paulo;VALUE=DATE-TIME:20230817T090000
DTEND;TZID=America/Sao_Paulo;VALUE=DATE-TIME:20230817T120000
DTSTAMP;VALUE=DATE-TIME:20260421T091351Z
UID:957f482b0ad24a438f69b7566a47b899@150.164.76.86:8080
CREATED;VALUE=DATE-TIME:20230814T173812Z
DESCRIPTION:<p><span style="text-align: left\; text-decoration-thickness: 
 initial\; text-decoration-style: initial\; text-decoration-color: initial\
 ; float: none\; ">A Ditadura militar brasileira: história\, memória e re
 sistência</span></p>
LAST-MODIFIED;VALUE=DATE-TIME:20230816T120530Z
URL:http://150.164.76.86:8080/cac/agenda/9260602793431827448
END:VEVENT
BEGIN:VTIMEZONE
TZID:America/Sao_Paulo
X-LIC-LOCATION:America/Sao_Paulo
BEGIN:STANDARD
DTSTART;VALUE=DATE-TIME:20230225T230000
TZNAME:BRT
TZOFFSETFROM:-0200
TZOFFSETTO:-0300
END:STANDARD
END:VTIMEZONE
END:VCALENDAR
