BEGIN:VCALENDAR
VERSION:2.0
PRODID:-//Plone.org//NONSGML plone.app.event//EN
X-WR-TIMEZONE:America/Sao_Paulo
BEGIN:VEVENT
SUMMARY:Banca de Verificação da DPMG em [ Auditório B101/102 do CAD 3 A
 uditório B106 do CAD3 - s/ ar condic Auditório B107 do CAD3 Auditório B
 301 do CAD 3 Auditório B302 do CAD 3 Auditório B306 do CAD3 Outros espac
 os]
DTSTART;TZID=America/Sao_Paulo;VALUE=DATE-TIME:20240203T070000
DTEND;TZID=America/Sao_Paulo;VALUE=DATE-TIME:20240204T210000
DTSTAMP;VALUE=DATE-TIME:20260420T080618Z
UID:7906f7d3ec2e4f0195578626fa21226f@150.164.76.86:8080
CREATED;VALUE=DATE-TIME:20231214T150413Z
DESCRIPTION:<p><span>realização da Banca de Verificação de pessoas que
  se declararam Pretos e Pardos da DPMG\, no período da manhã e tarde\, q
 ue será realizado pela Fundep.</span></p>
LAST-MODIFIED;VALUE=DATE-TIME:20231214T150426Z
URL:http://150.164.76.86:8080/cac/agenda/9256209034940335730
END:VEVENT
BEGIN:VTIMEZONE
TZID:America/Sao_Paulo
X-LIC-LOCATION:America/Sao_Paulo
BEGIN:DAYLIGHT
DTSTART;VALUE=DATE-TIME:20231015T010000
TZNAME:BRST
TZOFFSETFROM:-0300
TZOFFSETTO:-0200
END:DAYLIGHT
END:VTIMEZONE
END:VCALENDAR
