BEGIN:VCALENDAR
VERSION:2.0
PRODID:-//Plone.org//NONSGML plone.app.event//EN
X-WR-TIMEZONE:America/Sao_Paulo
BEGIN:VEVENT
SUMMARY:Transmissão da apuração das consultas centralizadas 2023 em [ O
 utros espacos]
DTSTART;TZID=America/Sao_Paulo;VALUE=DATE-TIME:20230714T170000
DTEND;TZID=America/Sao_Paulo;VALUE=DATE-TIME:20230714T173000
DTSTAMP;VALUE=DATE-TIME:20260421T104101Z
UID:3ba7130606624dcfb3ee0c5f35fd0c9d@150.164.76.86:8080
CREATED;VALUE=DATE-TIME:20230523T172949Z
DESCRIPTION:<p>Apuração dos resultados das consultas centralizadas de 20
 23</p>
LAST-MODIFIED;VALUE=DATE-TIME:20230523T173036Z
URL:http://150.164.76.86:8080/cac/agenda/9247992601449877875
END:VEVENT
BEGIN:VTIMEZONE
TZID:America/Sao_Paulo
X-LIC-LOCATION:America/Sao_Paulo
BEGIN:STANDARD
DTSTART;VALUE=DATE-TIME:20230225T230000
TZNAME:BRT
TZOFFSETFROM:-0200
TZOFFSETTO:-0300
END:STANDARD
END:VTIMEZONE
END:VCALENDAR
