BEGIN:VCALENDAR
VERSION:2.0
PRODID:-//Plone.org//NONSGML plone.app.event//EN
X-WR-TIMEZONE:America/Sao_Paulo
BEGIN:VEVENT
SUMMARY:Profissão em ação: Relatos de profissionais da Conservação e 
 Restauração sobre inserção no mercado de trabalho em [ Auditorio A102 
 do Cad 2]
DTSTART;TZID=America/Sao_Paulo;VALUE=DATE-TIME:20250128T083000
DTEND;TZID=America/Sao_Paulo;VALUE=DATE-TIME:20250128T123000
DTSTAMP;VALUE=DATE-TIME:20260419T145132Z
UID:0f9e207444d94b988045cd55062bd3bc@150.164.76.86:8080
CREATED;VALUE=DATE-TIME:20250108T181954Z
DESCRIPTION:O evento  Profissão em ação: Relatos de profissionais da Co
 nservação e Restauração sobre inserção no mercado de trabalho é um 
 seminário que contará com a presença de \nprofissionais egressos do cur
 so de Conservação e Restauração da EBA/UFMG. Está sendo realizado no 
 âmbito da disciplina Seminário:Sociologia do curso de Conservação\, so
 b \ncoordenação da Professora Rita Lages Rodrigues. A organização est
 á a cargo dos estudantes da disciplina e da professora.\nNecessitaremos d
 os equipamentos de audiovisual\, em especial projetores e microfones. Esto
 u em contato com o técnico da escola de belas artes para que ele seja o r
 esponsável\ntécnico.
LAST-MODIFIED;VALUE=DATE-TIME:20250123T164733Z
URL:http://150.164.76.86:8080/cac/agenda/9212960365686588455
END:VEVENT
BEGIN:VTIMEZONE
TZID:America/Sao_Paulo
X-LIC-LOCATION:America/Sao_Paulo
BEGIN:DAYLIGHT
DTSTART;VALUE=DATE-TIME:20241020T010000
TZNAME:BRST
TZOFFSETFROM:-0300
TZOFFSETTO:-0200
END:DAYLIGHT
END:VTIMEZONE
END:VCALENDAR
