BEGIN:VCALENDAR
VERSION:2.0
PRODID:-//Plone.org//NONSGML plone.app.event//EN
X-WR-TIMEZONE:America/Sao_Paulo
BEGIN:VEVENT
SUMMARY:Noite cultural de encerramento do abril indígena em [ Arena da pr
 aça de serviços]
DTSTART;TZID=America/Sao_Paulo;VALUE=DATE-TIME:20230502T170000
DTEND;TZID=America/Sao_Paulo;VALUE=DATE-TIME:20230502T210000
DTSTAMP;VALUE=DATE-TIME:20260421T120007Z
UID:84371cb485564120b977148913665b8f@150.164.76.86:8080
CREATED;VALUE=DATE-TIME:20230413T170839Z
DESCRIPTION:<p>Noite cultural de encerramento do abril indígena com ativi
 dades desenvolvidas pelo coletivo de estudantes indígenas da UFMG</p>
LAST-MODIFIED;VALUE=DATE-TIME:20230426T122125Z
URL:http://150.164.76.86:8080/cac/agenda/9211927638456882451
END:VEVENT
BEGIN:VTIMEZONE
TZID:America/Sao_Paulo
X-LIC-LOCATION:America/Sao_Paulo
BEGIN:STANDARD
DTSTART;VALUE=DATE-TIME:20230225T230000
TZNAME:BRT
TZOFFSETFROM:-0200
TZOFFSETTO:-0300
END:STANDARD
END:VTIMEZONE
END:VCALENDAR
