BEGIN:VCALENDAR
VERSION:2.0
PRODID:-//Plone.org//NONSGML plone.app.event//EN
X-WR-TIMEZONE:America/Sao_Paulo
BEGIN:VEVENT
SUMMARY:I Seminário  de Integração das Cátedras de Educação Básica 
 e Formação de Professores da UFMG\, URRJ e USP em [ Outros espacos Audit
 orio da Reitoria]
DTSTART;TZID=America/Sao_Paulo;VALUE=DATE-TIME:20250404T080000
DTEND;TZID=America/Sao_Paulo;VALUE=DATE-TIME:20250404T180000
DTSTAMP;VALUE=DATE-TIME:20260419T091056Z
UID:93b9c5fcff0743d48ee9a91b09cbd081@150.164.76.86:8080
CREATED;VALUE=DATE-TIME:20250218T120358Z
DESCRIPTION:<p>Mesa para 5 lugares\, computador com powerpoint\, microfone
 s sem fio\, mesa externa para credenciamento.</p>
LAST-MODIFIED;VALUE=DATE-TIME:20250307T213742Z
URL:http://150.164.76.86:8080/cac/agenda/9206838843732527844
END:VEVENT
BEGIN:VTIMEZONE
TZID:America/Sao_Paulo
X-LIC-LOCATION:America/Sao_Paulo
BEGIN:STANDARD
DTSTART;VALUE=DATE-TIME:20250215T230000
TZNAME:BRT
TZOFFSETFROM:-0200
TZOFFSETTO:-0300
END:STANDARD
END:VTIMEZONE
END:VCALENDAR
