BEGIN:VCALENDAR
VERSION:2.0
PRODID:-//Plone.org//NONSGML plone.app.event//EN
X-WR-TIMEZONE:America/Sao_Paulo
BEGIN:VEVENT
SUMMARY:Scientific Research in France and Brazil: Possible Synergies em [ 
 Auditorio da Reitoria]
DTSTART;TZID=America/Sao_Paulo;VALUE=DATE-TIME:20240829T100000
DTEND;TZID=America/Sao_Paulo;VALUE=DATE-TIME:20240829T120000
DTSTAMP;VALUE=DATE-TIME:20260419T222224Z
UID:13f21dddde9a46bcbaebc3f28fec8c10@150.164.76.86:8080
CREATED;VALUE=DATE-TIME:20240812T113525Z
DESCRIPTION:<p>Evento para fomentar cooperação científica França-Brasi
 l. Verificarei a respeito dos equipamentos necessários e entrarei em cont
 ato.</p>
LAST-MODIFIED;VALUE=DATE-TIME:20240812T145724Z
URL:http://150.164.76.86:8080/cac/agenda/9161647718189603360
END:VEVENT
BEGIN:VTIMEZONE
TZID:America/Sao_Paulo
X-LIC-LOCATION:America/Sao_Paulo
BEGIN:STANDARD
DTSTART;VALUE=DATE-TIME:20240217T230000
TZNAME:BRT
TZOFFSETFROM:-0200
TZOFFSETTO:-0300
END:STANDARD
END:VTIMEZONE
END:VCALENDAR
