BEGIN:VCALENDAR
VERSION:2.0
PRODID:-//Plone.org//NONSGML plone.app.event//EN
X-WR-TIMEZONE:America/Sao_Paulo
BEGIN:VEVENT
SUMMARY:XXIV Encontro Regional de História da ANPUH-MG em [ Auditorio Nob
 re do CAD 1 Auditorio A104 do Cad 2]
DTSTART;TZID=America/Sao_Paulo;VALUE=DATE-TIME:20240715T170000
DTEND;TZID=America/Sao_Paulo;VALUE=DATE-TIME:20240719T210000
DTSTAMP;VALUE=DATE-TIME:20260419T234932Z
UID:b2cf6142005d4c1c97d43ddb8502ec2d@150.164.76.86:8080
CREATED;VALUE=DATE-TIME:20240304T142516Z
DESCRIPTION:<p>Solenidade de Abertura e Conferência de abertura: Mesa com
  cadeiras no palco. Projetor e equipamento e técnico para projeção. Mic
 rofones (2) à mesa.</p>\n<p>OBS: Abertura no CAD1\, dia 15/07/24\, e rest
 ante do evento\, no decorrer da semana\, apenas no CAD2.</p>
LAST-MODIFIED;VALUE=DATE-TIME:20240705T183337Z
URL:http://150.164.76.86:8080/cac/agenda/9141360869693267006
END:VEVENT
BEGIN:VTIMEZONE
TZID:America/Sao_Paulo
X-LIC-LOCATION:America/Sao_Paulo
BEGIN:STANDARD
DTSTART;VALUE=DATE-TIME:20240217T230000
TZNAME:BRT
TZOFFSETFROM:-0200
TZOFFSETTO:-0300
END:STANDARD
END:VTIMEZONE
END:VCALENDAR
