BEGIN:VCALENDAR
VERSION:2.0
PRODID:-//Plone.org//NONSGML plone.app.event//EN
X-WR-TIMEZONE:America/Sao_Paulo
BEGIN:VEVENT
SUMMARY:1 - Congresso de Psicologia e Cannabis em [ Auditorio A104 do Cad 
 2 Auditorio A102 do Cad 2]
DTSTART;TZID=America/Sao_Paulo;VALUE=DATE-TIME:20230426T080000
DTEND;TZID=America/Sao_Paulo;VALUE=DATE-TIME:20230428T220000
DTSTAMP;VALUE=DATE-TIME:20260421T145735Z
UID:bb6fbcb494c643c786e51e5270a6a663@150.164.76.86:8080
CREATED;VALUE=DATE-TIME:20230202T174739Z
DESCRIPTION:<p>O Evento contara com a participação de palestrantes e con
 vidados de varias regiões do pais e do Uruguai e Argentina. Ocorrerão 8 
 mesas e mais 11 mini-cursos e oficinas e 8 rodas de prosa\, haverá a nece
 ssidade de suporte para gravação e transmissão das mesas principais (8 
 mesas). Haverá necessidade de tradutor de espanhol para o português. No 
 dia 26.04. haverá a mesa de abertura as 15\;30 e as 16\;20 a conferencia 
 magna\, as 18\;00 horas ocorrerá a mesa 1. Quinta feira - 27.04 9\;00 int
 ervenção\;áo\, 10 horas mesa 2 com transmissão\, 14 horas mesa 3 1º C
 ongresso de Psicologia e Cannabis Organização: Comissão de Orientação
  em Psicologia e Tratamento com Cannabis Terapêutica do Conselho Regional
  de Psicologia de Minas Gerais. PsicoCannabis - Rede Brasileira de Psicolo
 gia especializada no uso medicinal / terapêutico da cannabis e seus deriv
 ados. Apoio: UFMG ok CRP SP ok AMAE Institute ok RENFA ok AMA+ME ok ABRACA
 NNABIS ok APEPI ok ABICANN ok Realização: CRPMG Público: Estudantes\, p
 rofissionais da Psicologia e público interessado Inscrições: 300 vagas 
 presenciais e 1000 vagas remotas Cidade: Belo Horizonte - MG Local: UFMG -
  Universidade Federal de Minas Gerais Datas: 26\, 27 e 28 de Abril de 2023
  Projeto 1º Congresso Brasileiro de Psicologia e Cannabis Apresentação:
  A realização do 1º Congresso Brasileiro de Psicologia e Cannabis ocorr
 e a partir dos trabalhos executados no Conselho Regional de Psicologia de 
 Minas Gerais\, na Comissão de Orientação em Psicologia em tratamentos c
 om cannabis terapêutica. O trabalho da Comissão encontrou situações qu
 e exigem nosso interesse e precisam de um debate público aprofundado. A C
 omissão que teve origem como Grupo de Trabalho\, iniciado em Agosto de 20
 20\, realizou audiências com especialistas e buscando se informar sobre o
  tema entre a classe\, produziu a pesquisa “O conhecimento das Psicólog
 as mineiras sobre cannabis terapêutica”. Um universo de 938 respostas d
 emonstrou que 75\,8% das psicólogas são favoráveis à regulamentação 
 da cannabis e que sentem necessidade de orientação\, formação\, qualif
 icação técnica e segurança institucional para acompanharem pacientes e
 m uso de cannabis ou produtos à base de cannabis. Para tornar pública a 
 natureza destes debates\, o CRP/MG lançará por ocasião do Congresso uma
  publicação temática sobre cannabis\, com a referida pesquisa\, bem com
 o as audiências realizadas no G.T. Movidos por estas constatações\, ens
 ejamos a realização desse Congresso\, com vistas a dar contribuições 
 às psicólogas\, a colegas de saúde de campos diversos e a população s
 obre a cannabis enquanto terapêutica e medicina. Estamos movidos pela urg
 ência dessa pauta\, sob a ótica da ética que nos guia\, da relevância 
 social e do compromisso com aqueles que sofrem\, convidamos a todos para p
 articipar desse momento que exige de nós uma contribuição e um posicion
 amento. OBS: SERVIÇO TÉCNICO AUDIOVISUAL SERÁ PROVIDENCIADO PELA ORGANI
 ZAÇÃO DO EVENTO.</p>
LAST-MODIFIED;VALUE=DATE-TIME:20230411T151014Z
URL:http://150.164.76.86:8080/cac/agenda/910259902764509751
END:VEVENT
BEGIN:VTIMEZONE
TZID:America/Sao_Paulo
X-LIC-LOCATION:America/Sao_Paulo
BEGIN:STANDARD
DTSTART;VALUE=DATE-TIME:20230225T230000
TZNAME:BRT
TZOFFSETFROM:-0200
TZOFFSETTO:-0300
END:STANDARD
END:VTIMEZONE
END:VCALENDAR
