BEGIN:VCALENDAR
VERSION:2.0
PRODID:-//Plone.org//NONSGML plone.app.event//EN
X-WR-TIMEZONE:America/Sao_Paulo
BEGIN:VEVENT
SUMMARY:I Encontro da Regional Sudeste do CONACESSI/ANDIFES em [ Auditóri
 o B106 do CAD3 - s/ ar condicionado]
DTSTART;TZID=America/Sao_Paulo;VALUE=DATE-TIME:20250410T080000
DTEND;TZID=America/Sao_Paulo;VALUE=DATE-TIME:20250411T173000
DTSTAMP;VALUE=DATE-TIME:20260419T105253Z
UID:fa9723ab40854fcfb57f38575c638fbd@150.164.76.86:8080
CREATED;VALUE=DATE-TIME:20250211T144036Z
DESCRIPTION:<div>dias 10 e 11 de abril de 2025\, manhã e tarde para o <s
 pan>I Encontro da Regional Sudeste do CONACESSI/ANDIFES.</span></div>\n<di
 v>Esse evento contará com a presença da Reitora no dia da abertura\, dia
  10/04/2025\, 9:30 horas. </div>
LAST-MODIFIED;VALUE=DATE-TIME:20250306T145644Z
URL:http://150.164.76.86:8080/cac/agenda/9068772912555829293
END:VEVENT
BEGIN:VTIMEZONE
TZID:America/Sao_Paulo
X-LIC-LOCATION:America/Sao_Paulo
BEGIN:STANDARD
DTSTART;VALUE=DATE-TIME:20250215T230000
TZNAME:BRT
TZOFFSETFROM:-0200
TZOFFSETTO:-0300
END:STANDARD
END:VTIMEZONE
END:VCALENDAR
