BEGIN:VCALENDAR
VERSION:2.0
PRODID:-//Plone.org//NONSGML plone.app.event//EN
X-WR-TIMEZONE:America/Sao_Paulo
BEGIN:VEVENT
SUMMARY:VIII Encontro CPA\, NDE e Colegiado em [ Outros espacos]
DTSTART;TZID=America/Sao_Paulo;VALUE=DATE-TIME:20231110T130000
DTEND;TZID=America/Sao_Paulo;VALUE=DATE-TIME:20231110T170000
DTSTAMP;VALUE=DATE-TIME:20260420T131417Z
UID:e689d0ef43c24b65b9d3b38f5f871211@150.164.76.86:8080
CREATED;VALUE=DATE-TIME:20230705T122935Z
DESCRIPTION:<p>Equipamentos: - data show - microfone - transmissão Youtub
 e (canal da CAC) - técnico (se possível) para auxiliar somente no iníci
 o do evento Programação Dia 09/11/2023 14h - Mesa de Abertura (reitora e
  vice-reitor estarão presentes) 15h - Conferência: políticas públicas 
 de educação e avaliação institucional 16h - Mesa : CPA: História\, me
 mória e importância 17h - Café com Prosa Dia 10/11/2023 9h - Mesa coord
 enada: Enade \, Egressos\, Extensão e Avaliação Discente 10h - GTs: Ena
 de\; Egressos e avaliação discente - cada GT terá liberdade de propor u
 ma atividade com seu grupo. Seria interessante em cada GT o moderador apre
 sentar os dados disponíveis na CPA de cada tema\, assim os participantes 
 terão acesso ao produzido pela CPA e que poderá ser replicado nas suas u
 nidades e cursos. No final apresentar uma síntese da dinâmica realizada 
 na plenária. Será um momento em que os participantes irão se dividir em
  grupos e reunir em salas menores. 16h Plenária final 17h30 Encerramento 
 OBS.: A programação está sujeita à alteração\, visto que a comissão
  organizadora está definindo os detalhes.</p>
LAST-MODIFIED;VALUE=DATE-TIME:20231109T123534Z
URL:http://150.164.76.86:8080/cac/agenda/9056564503038982221
END:VEVENT
BEGIN:VTIMEZONE
TZID:America/Sao_Paulo
X-LIC-LOCATION:America/Sao_Paulo
BEGIN:DAYLIGHT
DTSTART;VALUE=DATE-TIME:20231015T010000
TZNAME:BRST
TZOFFSETFROM:-0300
TZOFFSETTO:-0200
END:DAYLIGHT
END:VTIMEZONE
END:VCALENDAR
