BEGIN:VCALENDAR
VERSION:2.0
PRODID:-//Plone.org//NONSGML plone.app.event//EN
X-WR-TIMEZONE:America/Sao_Paulo
BEGIN:VEVENT
SUMMARY:Feira da UFMG em [ Entorno da Praca de Servicos]
DTSTART;TZID=America/Sao_Paulo;VALUE=DATE-TIME:20221214T060000
DTEND;TZID=America/Sao_Paulo;VALUE=DATE-TIME:20221214T180000
DTSTAMP;VALUE=DATE-TIME:20260421T205945Z
UID:bf6c985eb37e4e80afe5f01ccf5b02a0@150.164.76.86:8080
CREATED;VALUE=DATE-TIME:20221114T222146Z
DESCRIPTION:Não será necessário nenhum equipamento ou serviço.
LAST-MODIFIED;VALUE=DATE-TIME:20221121T202528Z
URL:http://150.164.76.86:8080/cac/agenda/9047770947203910430
END:VEVENT
BEGIN:VTIMEZONE
TZID:America/Sao_Paulo
X-LIC-LOCATION:America/Sao_Paulo
BEGIN:DAYLIGHT
DTSTART;VALUE=DATE-TIME:20221016T010000
TZNAME:BRST
TZOFFSETFROM:-0300
TZOFFSETTO:-0200
END:DAYLIGHT
END:VTIMEZONE
END:VCALENDAR
