BEGIN:VCALENDAR
VERSION:2.0
PRODID:-//Plone.org//NONSGML plone.app.event//EN
X-WR-TIMEZONE:America/Sao_Paulo
BEGIN:VEVENT
SUMMARY:APUBH - Assembleia Geral de Professores da UFMG em [ Auditorio Nob
 re do CAD 1]
DTSTART;TZID=America/Sao_Paulo;VALUE=DATE-TIME:20240605T080000
DTEND;TZID=America/Sao_Paulo;VALUE=DATE-TIME:20240605T180000
DTSTAMP;VALUE=DATE-TIME:20260419T235721Z
UID:089fa5413b05426db8705dc06b4d69db@150.164.76.86:8080
CREATED;VALUE=DATE-TIME:20240529T152958Z
DESCRIPTION:Assembleia do APUBH\n\nDATA: 05/06/2024 (SEXTA-FEIRA) \nHorár
 io: 08h Às 18h\nPúblico: 400
LAST-MODIFIED;VALUE=DATE-TIME:20240529T153732Z
URL:http://150.164.76.86:8080/cac/agenda/9038067263368637528
END:VEVENT
BEGIN:VTIMEZONE
TZID:America/Sao_Paulo
X-LIC-LOCATION:America/Sao_Paulo
BEGIN:STANDARD
DTSTART;VALUE=DATE-TIME:20240217T230000
TZNAME:BRT
TZOFFSETFROM:-0200
TZOFFSETTO:-0300
END:STANDARD
END:VTIMEZONE
END:VCALENDAR
