BEGIN:VCALENDAR
VERSION:2.0
PRODID:-//Plone.org//NONSGML plone.app.event//EN
X-WR-TIMEZONE:America/Sao_Paulo
BEGIN:VEVENT
SUMMARY:Inauguração Sala Segura em [ Outros espacos]
DTSTART;TZID=America/Sao_Paulo;VALUE=DATE-TIME:20230602T100000
DTEND;TZID=America/Sao_Paulo;VALUE=DATE-TIME:20230602T110000
DTSTAMP;VALUE=DATE-TIME:20260421T102946Z
UID:6ee00ffaeea9453f9ab9a2b37c366aff@150.164.76.86:8080
CREATED;VALUE=DATE-TIME:20230529T130349Z
DESCRIPTION:<p><span style="text-align: start\; text-decoration-thickness:
  initial\; text-decoration-style: initial\; text-decoration-color: initial
 \; float: none\; ">Inauguração da Sala Segura</span></p>
LAST-MODIFIED;VALUE=DATE-TIME:20230529T130402Z
URL:http://150.164.76.86:8080/cac/agenda/9026805514853106396
END:VEVENT
BEGIN:VTIMEZONE
TZID:America/Sao_Paulo
X-LIC-LOCATION:America/Sao_Paulo
BEGIN:STANDARD
DTSTART;VALUE=DATE-TIME:20230225T230000
TZNAME:BRT
TZOFFSETFROM:-0200
TZOFFSETTO:-0300
END:STANDARD
END:VTIMEZONE
END:VCALENDAR
