BEGIN:VCALENDAR
VERSION:2.0
PRODID:-//Plone.org//NONSGML plone.app.event//EN
X-WR-TIMEZONE:America/Sao_Paulo
BEGIN:VEVENT
SUMMARY:Posse nova Diretoria da BU em [ Auditorio A102 do Cad 2 Auditorio 
 A104 do Cad 2]
DTSTART;TZID=America/Sao_Paulo;VALUE=DATE-TIME:20240613T080000
DTEND;TZID=America/Sao_Paulo;VALUE=DATE-TIME:20240613T210000
DTSTAMP;VALUE=DATE-TIME:20260420T030000Z
UID:25fbc189ec5a4b548eeb139142b1fafb@150.164.76.86:8080
CREATED;VALUE=DATE-TIME:20240523T144923Z
DESCRIPTION:<p>Solenidade de posse da nova diretoria da BU\, sob presidên
 cia da Reitora.</p>
LAST-MODIFIED;VALUE=DATE-TIME:20240523T145459Z
URL:http://150.164.76.86:8080/cac/agenda/9006796132696683526
END:VEVENT
BEGIN:VTIMEZONE
TZID:America/Sao_Paulo
X-LIC-LOCATION:America/Sao_Paulo
BEGIN:STANDARD
DTSTART;VALUE=DATE-TIME:20240217T230000
TZNAME:BRT
TZOFFSETFROM:-0200
TZOFFSETTO:-0300
END:STANDARD
END:VTIMEZONE
END:VCALENDAR
