BEGIN:VCALENDAR
VERSION:2.0
PRODID:-//Plone.org//NONSGML plone.app.event//EN
X-WR-TIMEZONE:America/Sao_Paulo
BEGIN:VEVENT
SUMMARY:Concerto de Natal Ars Nova em [ Auditorio da Reitoria]
DTSTART;TZID=America/Sao_Paulo;VALUE=DATE-TIME:20221219T080000
DTEND;TZID=America/Sao_Paulo;VALUE=DATE-TIME:20221219T210000
DTSTAMP;VALUE=DATE-TIME:20260421T221015Z
UID:077a777193964baabf8c7cf0509e3df5@150.164.76.86:8080
CREATED;VALUE=DATE-TIME:20220818T203246Z
DESCRIPTION:<p>Equipamento de som</p>
LAST-MODIFIED;VALUE=DATE-TIME:20220819T180629Z
URL:http://150.164.76.86:8080/cac/agenda/9001253526840147704
END:VEVENT
BEGIN:VTIMEZONE
TZID:America/Sao_Paulo
X-LIC-LOCATION:America/Sao_Paulo
BEGIN:DAYLIGHT
DTSTART;VALUE=DATE-TIME:20221016T010000
TZNAME:BRST
TZOFFSETFROM:-0300
TZOFFSETTO:-0200
END:DAYLIGHT
END:VTIMEZONE
END:VCALENDAR
