BEGIN:VCALENDAR
VERSION:2.0
PRODID:-//Plone.org//NONSGML plone.app.event//EN
X-WR-TIMEZONE:America/Sao_Paulo
BEGIN:VEVENT
SUMMARY:Oficina de Dança e Roda de Conversa com a ColetivA Mulheres da Qu
 ebrada em [ Arena da praça de serviços]
DTSTART;TZID=America/Sao_Paulo;VALUE=DATE-TIME:20231121T170000
DTEND;TZID=America/Sao_Paulo;VALUE=DATE-TIME:20231121T203000
DTSTAMP;VALUE=DATE-TIME:20260420T130605Z
UID:0a7b45aa49ac410ca5e064f591f93b8a@150.164.76.86:8080
CREATED;VALUE=DATE-TIME:20231108T132935Z
DESCRIPTION:O Evento se resume a uma Oficina de Dança e uma Roda de Conve
 rsa com o ColetivA Mulheres da Quebrada.\n\nO Evento integra a Programaç
 ão do Novembro Negro Edição 2023.\n\nA expectativa de público é de 25
 0 pessoas.\n\nSerá necessário a instalação de uma Caixa de Som e Três
  Microfones sem fio.
LAST-MODIFIED;VALUE=DATE-TIME:20231108T154528Z
URL:http://150.164.76.86:8080/cac/agenda/8995727596475956313
END:VEVENT
BEGIN:VTIMEZONE
TZID:America/Sao_Paulo
X-LIC-LOCATION:America/Sao_Paulo
BEGIN:DAYLIGHT
DTSTART;VALUE=DATE-TIME:20231015T010000
TZNAME:BRST
TZOFFSETFROM:-0300
TZOFFSETTO:-0200
END:DAYLIGHT
END:VTIMEZONE
END:VCALENDAR
