BEGIN:VCALENDAR
VERSION:2.0
PRODID:-//Plone.org//NONSGML plone.app.event//EN
X-WR-TIMEZONE:America/Sao_Paulo
BEGIN:VEVENT
SUMMARY:Cerimonia de Certificação do Ensino Fundamental - Formatura dos 
 alunos do 9º ano do Centro Pedagógico 13/12/2024 em [ Auditorio A102 do 
 Cad 2 Auditorio A104 do Cad 2]
DTSTART;TZID=America/Sao_Paulo;VALUE=DATE-TIME:20241213T172000
DTEND;TZID=America/Sao_Paulo;VALUE=DATE-TIME:20241213T220000
DTSTAMP;VALUE=DATE-TIME:20260419T163920Z
UID:acf64345b63540d8b2df2f8eb3f74e2a@150.164.76.86:8080
CREATED;VALUE=DATE-TIME:20240228T164431Z
DESCRIPTION:<p>Cerimonia de Certificação do Ensino Fundamental - Formatu
 ra dos alunos do 9º ano do Centro Pedagógico-CP\, no dia 13/12/2024 (sex
 ta-feira). Programação: 17:20 a 18:00 - organização do espaço do audi
 tório 18:30 - Chegada dos alunos formandos\, das autoridades e homenagead
 os 19:00 - Início da Solenidade - Abertura e composição da Mesa de Honr
 a 19:10 - Entrada dos alunos formandos no auditório 19:20 - Hino Nacional
  19:25 - Início da entrega dos Certificados 20:15 - Início dos Discursos
  21:25 - Exibição do Clip dos Formandos 21:45 - Encerramento da Solenida
 de - Cumprimento dos alunos fora do saguão do CAD2 22:00 - Encerramento d
 e toda a atividade no auditório. Material necessário: - Necessário púl
 pito? SIM - Púlpito emprestado pela FaE UFMG - Necessário microfone para
  a Mesa? SIM - 01 - Necessário microfone no púlpito? SIM - 01 - Quantas 
 pessoas vão compor a mesa? 8 PESSOAS - Necessário toalha de Mesa? SIM - 
 Necessário trio de bandeiras? (Brasil\, Minas\, UFMG) - SIM - Vão execut
 ar o hino nacional? SIM - Necessário mesa de apoio? SIM - 01 - Reitora es
 tará presente? NÃO Coordenador de TI lotado no CP para fazer esse atendi
 mento técnico: o Servidor TAE\, John Gabrich.</p>
LAST-MODIFIED;VALUE=DATE-TIME:20241212T192709Z
URL:http://150.164.76.86:8080/cac/agenda/8993818433912419960
END:VEVENT
BEGIN:VTIMEZONE
TZID:America/Sao_Paulo
X-LIC-LOCATION:America/Sao_Paulo
BEGIN:DAYLIGHT
DTSTART;VALUE=DATE-TIME:20241020T010000
TZNAME:BRST
TZOFFSETFROM:-0300
TZOFFSETTO:-0200
END:DAYLIGHT
END:VTIMEZONE
END:VCALENDAR
