BEGIN:VCALENDAR
VERSION:2.0
PRODID:-//Plone.org//NONSGML plone.app.event//EN
X-WR-TIMEZONE:America/Sao_Paulo
BEGIN:VEVENT
SUMMARY:41ª Troca de Gestão CPE Jr. em [ Auditório B106 do CAD3]
DTSTART;TZID=America/Sao_Paulo;VALUE=DATE-TIME:20221216T173000
DTEND;TZID=America/Sao_Paulo;VALUE=DATE-TIME:20221216T203000
DTSTAMP;VALUE=DATE-TIME:20260421T205120Z
UID:6e845262b95340efbda790fedfcd242e@150.164.76.86:8080
CREATED;VALUE=DATE-TIME:20220920T221043Z
DESCRIPTION:<p>41ª Troca de Gestão CPE Jr. Evento semestral de passagem 
 de bastão. As pessoas que estão saindo da empresa são prestigiadas e os
  melhores membros da gestão são reconhecidos. Os novos membros são apre
 sentados à empresa e tem um pauta de introdução. Os pais dos membros at
 uais e os ex-membros também são convidados para participar do momento. E
 quipamentos necessários são apenas projetor\, microfone e alto-falante.<
 /p>
LAST-MODIFIED;VALUE=DATE-TIME:20221110T172309Z
URL:http://150.164.76.86:8080/cac/agenda/8993661597041611820
END:VEVENT
BEGIN:VTIMEZONE
TZID:America/Sao_Paulo
X-LIC-LOCATION:America/Sao_Paulo
BEGIN:DAYLIGHT
DTSTART;VALUE=DATE-TIME:20221016T010000
TZNAME:BRST
TZOFFSETFROM:-0300
TZOFFSETTO:-0200
END:DAYLIGHT
END:VTIMEZONE
END:VCALENDAR
