BEGIN:VCALENDAR
VERSION:2.0
PRODID:-//Plone.org//NONSGML plone.app.event//EN
X-WR-TIMEZONE:America/Sao_Paulo
BEGIN:VEVENT
SUMMARY:Aula do curso de Formação de Soldados Bombeiro Militar em [ Audi
 torio Nobre do CAD 1]
DTSTART;TZID=America/Sao_Paulo;VALUE=DATE-TIME:20200504T090000
DTEND;TZID=America/Sao_Paulo;VALUE=DATE-TIME:20200504T180000
DTSTAMP;VALUE=DATE-TIME:20260424T233747Z
UID:378fd05f2d164fcca09bc0f2655d4782@150.164.76.86:8080
CREATED;VALUE=DATE-TIME:20200313T121643Z
DESCRIPTION:<p>Evento autorizado pela Cássia e pelo Gabinete</p>
LAST-MODIFIED;VALUE=DATE-TIME:20200317T113155Z
URL:http://150.164.76.86:8080/cac/agenda/89675341294422117
END:VEVENT
BEGIN:VTIMEZONE
TZID:America/Sao_Paulo
X-LIC-LOCATION:America/Sao_Paulo
BEGIN:STANDARD
DTSTART;VALUE=DATE-TIME:20200215T230000
TZNAME:BRT
TZOFFSETFROM:-0200
TZOFFSETTO:-0300
END:STANDARD
END:VTIMEZONE
END:VCALENDAR
