BEGIN:VCALENDAR
VERSION:2.0
PRODID:-//Plone.org//NONSGML plone.app.event//EN
X-WR-TIMEZONE:America/Sao_Paulo
BEGIN:VEVENT
SUMMARY:Abrapel (Associação Brasileira de Pesquisadores Nacionais) em Pa
 rceria Faculdade de Direito da UFMG em [ Auditorio A104 do Cad 2]
DTSTART;TZID=America/Sao_Paulo;VALUE=DATE-TIME:20231003T070000
DTEND;TZID=America/Sao_Paulo;VALUE=DATE-TIME:20231005T210000
DTSTAMP;VALUE=DATE-TIME:20260420T130654Z
UID:43403b057c3548909503ab83abaaf4a0@150.164.76.86:8080
CREATED;VALUE=DATE-TIME:20230706T201615Z
DESCRIPTION:<p>Datashow/computador/Internet/câmera para transmissão do e
 vento</p>
LAST-MODIFIED;VALUE=DATE-TIME:20230901T190311Z
URL:http://150.164.76.86:8080/cac/agenda/8964068448582460478
END:VEVENT
BEGIN:VTIMEZONE
TZID:America/Sao_Paulo
X-LIC-LOCATION:America/Sao_Paulo
BEGIN:STANDARD
DTSTART;VALUE=DATE-TIME:20230225T230000
TZNAME:BRT
TZOFFSETFROM:-0200
TZOFFSETTO:-0300
END:STANDARD
END:VTIMEZONE
END:VCALENDAR
