BEGIN:VCALENDAR
VERSION:2.0
PRODID:-//Plone.org//NONSGML plone.app.event//EN
X-WR-TIMEZONE:America/Sao_Paulo
BEGIN:VEVENT
SUMMARY:Aula Aberta da Diciplina Primeiros Passos da Clinica em TCC em [ A
 uditorio A102 do Cad 2 Auditorio A104 do Cad 2 Outros espacos]
DTSTART;TZID=America/Sao_Paulo;VALUE=DATE-TIME:20250408T120000
DTEND;TZID=America/Sao_Paulo;VALUE=DATE-TIME:20250408T180000
DTSTAMP;VALUE=DATE-TIME:20260419T104554Z
UID:9e11a74c4f334b679bf9a594d3c82241@150.164.76.86:8080
CREATED;VALUE=DATE-TIME:20250401T163533Z
DESCRIPTION:Teremos uma palestra com o professor de Brasilia\, então ser
 á necessaria internet\, um projetor e caixas de som em bom funcionamento.
LAST-MODIFIED;VALUE=DATE-TIME:20250408T152102Z
URL:http://150.164.76.86:8080/cac/agenda/8943133192590777170
END:VEVENT
BEGIN:VTIMEZONE
TZID:America/Sao_Paulo
X-LIC-LOCATION:America/Sao_Paulo
BEGIN:STANDARD
DTSTART;VALUE=DATE-TIME:20250215T230000
TZNAME:BRT
TZOFFSETFROM:-0200
TZOFFSETTO:-0300
END:STANDARD
END:VTIMEZONE
END:VCALENDAR
