BEGIN:VCALENDAR
VERSION:2.0
PRODID:-//Plone.org//NONSGML plone.app.event//EN
X-WR-TIMEZONE:America/Sao_Paulo
BEGIN:VEVENT
SUMMARY:Recepção de Calouros 2/2023 em [ Auditorio da Reitoria Saguao da
  Reitoria Gramado da Reitoria Arena da praça de serviços Entorno da Prac
 a de Servicos Auditorio Nobre do CAD 1 Auditorio 1A do CAD 1 Auditorio 2A 
 do CAD 1 Auditorio A102 do Cad 2 Auditorio A104 do Cad 2 Auditório B101/1
 02 do CAD 3 Auditório B301 do CAD 3 Auditório B302 do CAD 3 Auditório B
 106 do CAD3 Auditório B107 do CAD3 Outros espacos]
DTSTART;TZID=America/Sao_Paulo;VALUE=DATE-TIME:20230811T060000
DTEND;TZID=America/Sao_Paulo;VALUE=DATE-TIME:20230814T220000
DTSTAMP;VALUE=DATE-TIME:20260421T091326Z
UID:78dfb2927f474a399e226652671c8be2@150.164.76.86:8080
CREATED;VALUE=DATE-TIME:20221110T140325Z
DESCRIPTION:<p>Montagem 04/08</p>\n<p>Recepção de calouros - 07 e 08/08<
 /p>
LAST-MODIFIED;VALUE=DATE-TIME:20230111T201119Z
URL:http://150.164.76.86:8080/cac/agenda/8942880105584287928
END:VEVENT
BEGIN:VTIMEZONE
TZID:America/Sao_Paulo
X-LIC-LOCATION:America/Sao_Paulo
BEGIN:STANDARD
DTSTART;VALUE=DATE-TIME:20230225T230000
TZNAME:BRT
TZOFFSETFROM:-0200
TZOFFSETTO:-0300
END:STANDARD
END:VTIMEZONE
END:VCALENDAR
