BEGIN:VCALENDAR
VERSION:2.0
PRODID:-//Plone.org//NONSGML plone.app.event//EN
X-WR-TIMEZONE:America/Sao_Paulo
BEGIN:VEVENT
SUMMARY:Colação de Grau em [ Auditorio A104 do Cad 2]
DTSTART;TZID=America/Sao_Paulo;VALUE=DATE-TIME:20241011T070000
DTEND;TZID=America/Sao_Paulo;VALUE=DATE-TIME:20241011T210000
DTSTAMP;VALUE=DATE-TIME:20260419T191758Z
UID:eed754251bc6427c8bdb8755de253895@150.164.76.86:8080
CREATED;VALUE=DATE-TIME:20240710T211243Z
DESCRIPTION:<p>Colação de grau cursos de Arquivologia\, Biblioteconomia 
 e Museologia</p>
LAST-MODIFIED;VALUE=DATE-TIME:20240716T124401Z
URL:http://150.164.76.86:8080/cac/agenda/8932870074126989721
END:VEVENT
BEGIN:VTIMEZONE
TZID:America/Sao_Paulo
X-LIC-LOCATION:America/Sao_Paulo
BEGIN:STANDARD
DTSTART;VALUE=DATE-TIME:20240217T230000
TZNAME:BRT
TZOFFSETFROM:-0200
TZOFFSETTO:-0300
END:STANDARD
END:VTIMEZONE
END:VCALENDAR
