BEGIN:VCALENDAR
VERSION:2.0
PRODID:-//Plone.org//NONSGML plone.app.event//EN
X-WR-TIMEZONE:America/Sao_Paulo
BEGIN:VEVENT
SUMMARY:Feira EBA em [ Entorno da Praca de Servicos]
DTSTART;TZID=America/Sao_Paulo;VALUE=DATE-TIME:20240612T070000
DTEND;TZID=America/Sao_Paulo;VALUE=DATE-TIME:20240614T200000
DTSTAMP;VALUE=DATE-TIME:20260420T025955Z
UID:5649d3ba0c86477c8e1b3bb23a5de644@150.164.76.86:8080
CREATED;VALUE=DATE-TIME:20240109T040644Z
DESCRIPTION:O evento será montado dia 12 e realizado nos dias 13 e 14 de 
 junho. Não serão necessários equipamentos extras.
LAST-MODIFIED;VALUE=DATE-TIME:20240111T134623Z
URL:http://150.164.76.86:8080/cac/agenda/8922299123097477081
END:VEVENT
BEGIN:VTIMEZONE
TZID:America/Sao_Paulo
X-LIC-LOCATION:America/Sao_Paulo
BEGIN:STANDARD
DTSTART;VALUE=DATE-TIME:20240217T230000
TZNAME:BRT
TZOFFSETFROM:-0200
TZOFFSETTO:-0300
END:STANDARD
END:VTIMEZONE
END:VCALENDAR
