BEGIN:VCALENDAR
VERSION:2.0
PRODID:-//Plone.org//NONSGML plone.app.event//EN
X-WR-TIMEZONE:America/Sao_Paulo
BEGIN:VEVENT
SUMMARY:Leitura Pública do Edital de Mobilidade Internacional DRI/UFMG em
  [ Auditorio Nobre do CAD 1]
DTSTART;TZID=America/Sao_Paulo;VALUE=DATE-TIME:20220713T123000
DTEND;TZID=America/Sao_Paulo;VALUE=DATE-TIME:20220713T133000
DTSTAMP;VALUE=DATE-TIME:20260422T044617Z
UID:21407af2df014c50879daabdc0bf81b2@150.164.76.86:8080
CREATED;VALUE=DATE-TIME:20220708T183206Z
DESCRIPTION:Leitura pública do Edital de Seleção para os programas de m
 obilidade da DRI para a comunidade discente da graduação.\n\nEquipamento
 s:\n\nMicrofone 2 (se possível um sem fio para perguntas do auditório)\n
 Projetor e computador\nGravação e transmissão (ver sobre disponibilidad
 e)
LAST-MODIFIED;VALUE=DATE-TIME:20220711T120347Z
URL:http://150.164.76.86:8080/cac/agenda/8920882926608124097
END:VEVENT
BEGIN:VTIMEZONE
TZID:America/Sao_Paulo
X-LIC-LOCATION:America/Sao_Paulo
BEGIN:STANDARD
DTSTART;VALUE=DATE-TIME:20220219T230000
TZNAME:BRT
TZOFFSETFROM:-0200
TZOFFSETTO:-0300
END:STANDARD
END:VTIMEZONE
END:VCALENDAR
