BEGIN:VCALENDAR
VERSION:2.0
PRODID:-//Plone.org//NONSGML plone.app.event//EN
X-WR-TIMEZONE:America/Sao_Paulo
BEGIN:VEVENT
SUMMARY:(título provisório) - Seminários Fhemig 2022: Álcool e Outras 
 Drogas - Uma abordagem de RD em [ Outros espacos]
DTSTART;TZID=America/Sao_Paulo;VALUE=DATE-TIME:20220513T143000
DTEND;TZID=America/Sao_Paulo;VALUE=DATE-TIME:20220513T163000
DTSTAMP;VALUE=DATE-TIME:20260424T045355Z
UID:b2122736589f41eab3c6892d349ffec5@150.164.76.86:8080
CREATED;VALUE=DATE-TIME:20220427T164659Z
DESCRIPTION:Esse será o primeiro de dois seminários\, realizados pela UF
 MG em contrapartida a acordo de cooperação com a Fhemig. O segundo será
  em junho. Será feita solicitação separada.\n\nPor enquanto\, o evento 
 está ainda em fase final de construção\, confirmação de participantes
 \, definição de programação.\n\nIremos suprir os detalhes\, informaç
 ões complementares e definitivas até o dia 4 de maio.\n\nPor enquanto\, 
 solicitamos a reserva de equipe CAC para a data e horáio solicitado.\n\nO
 brigado
LAST-MODIFIED;VALUE=DATE-TIME:20220503T121331Z
URL:http://150.164.76.86:8080/cac/agenda/8916984854706407999
END:VEVENT
BEGIN:VTIMEZONE
TZID:America/Sao_Paulo
X-LIC-LOCATION:America/Sao_Paulo
BEGIN:STANDARD
DTSTART;VALUE=DATE-TIME:20220219T230000
TZNAME:BRT
TZOFFSETFROM:-0200
TZOFFSETTO:-0300
END:STANDARD
END:VTIMEZONE
END:VCALENDAR
