BEGIN:VCALENDAR
VERSION:2.0
PRODID:-//Plone.org//NONSGML plone.app.event//EN
X-WR-TIMEZONE:America/Sao_Paulo
BEGIN:VEVENT
SUMMARY:Pré-reserva Entrega de título honoris causa em [ Auditorio da Re
 itoria Auditorio Nobre do CAD 1]
DTSTART;TZID=America/Sao_Paulo;VALUE=DATE-TIME:20221122T080000
DTEND;TZID=America/Sao_Paulo;VALUE=DATE-TIME:20221122T210000
DTSTAMP;VALUE=DATE-TIME:20260421T221836Z
UID:a881a7c9311e4bbd9d5a7c0e7bb3b5ff@150.164.76.86:8080
CREATED;VALUE=DATE-TIME:20220912T183837Z
DESCRIPTION:<p><span>Sessão Solene para a outorga do título de Doutor 
 </span><i>Honoris Causa</i><span> a Adolfo Pérez Esquivel e Daisaku Iked
 a.</span></p>\n<p><span>Reserva do auditório Nobre para possível transmi
 ssão.</span></p>
LAST-MODIFIED;VALUE=DATE-TIME:20221111T160332Z
URL:http://150.164.76.86:8080/cac/agenda/8916451621860758533
END:VEVENT
BEGIN:VTIMEZONE
TZID:America/Sao_Paulo
X-LIC-LOCATION:America/Sao_Paulo
BEGIN:DAYLIGHT
DTSTART;VALUE=DATE-TIME:20221016T010000
TZNAME:BRST
TZOFFSETFROM:-0300
TZOFFSETTO:-0200
END:DAYLIGHT
END:VTIMEZONE
END:VCALENDAR
