BEGIN:VCALENDAR
VERSION:2.0
PRODID:-//Plone.org//NONSGML plone.app.event//EN
X-WR-TIMEZONE:America/Sao_Paulo
BEGIN:VEVENT
SUMMARY:Processo Seletivo do Colégio Técnico da UFMG em [ Outros espacos
  Auditorio Nobre do CAD 1 Auditorio 1A do CAD 1 Auditorio 2A do CAD 1 Audi
 torio A102 do Cad 2 Auditorio A104 do Cad 2 Auditório B101/102 do CAD 3 A
 uditório B106 do CAD3 Auditório B107 do CAD3 Auditório B301 do CAD 3 Au
 ditório B302 do CAD 3 Auditório B306 do CAD3]
DTSTART;TZID=America/Sao_Paulo;VALUE=DATE-TIME:20241130T060000
DTEND;TZID=America/Sao_Paulo;VALUE=DATE-TIME:20241201T210000
DTSTAMP;VALUE=DATE-TIME:20260419T150424Z
UID:3fc21382abd9447fb5a760e30315dd0d@150.164.76.86:8080
CREATED;VALUE=DATE-TIME:20240807T130714Z
DESCRIPTION:<p><b><span>Processo Seletivo do Colégio Técnico da UFMG</sp
 an></b></p>
LAST-MODIFIED;VALUE=DATE-TIME:20240807T130823Z
URL:http://150.164.76.86:8080/cac/agenda/8915249577031162757
END:VEVENT
BEGIN:VTIMEZONE
TZID:America/Sao_Paulo
X-LIC-LOCATION:America/Sao_Paulo
BEGIN:DAYLIGHT
DTSTART;VALUE=DATE-TIME:20241020T010000
TZNAME:BRST
TZOFFSETFROM:-0300
TZOFFSETTO:-0200
END:DAYLIGHT
END:VTIMEZONE
END:VCALENDAR
